BEGIN:VCALENDAR
VERSION:2.0
PRODID:-//illinoiscasa.org//NONSGML kigkonsult.se iCalcreator 2.30.10//
CALSCALE:GREGORIAN
METHOD:PUBLISH
UID:8ef4b4f3-a97c-4629-a0a0-473e52cb16cf
X-WR-CALDESC:This training will provide a brief overview of Diversity\, Equ
 ity\, Inclusion\, and Belonging\, with a particular focus on cultural humi
 lity and bias. \nLearning Objectives:\nExamine and increase self awareness
  to understand and address cultural/racial bias.\nExplore the differences 
 between cultural competency and cultural humility. \nStrategies to reduce 
 bias and promote positive cross-cultural interactions.
X-WR-RELCALID:44be27a55da1f375b38a47b62126026b
X-WR-TIMEZONE:America/Chicago
BEGIN:VTIMEZONE
TZID:America/Chicago
BEGIN:STANDARD
TZNAME:CST
DTSTART:20231105T020000
TZOFFSETFROM:-0500
TZOFFSETTO:-0600
RDATE:20241103T020000
RDATE:20251102T020000
END:STANDARD
BEGIN:DAYLIGHT
TZNAME:CDT
DTSTART:20240310T020000
TZOFFSETFROM:-0600
TZOFFSETTO:-0500
RDATE:20250309T020000
RDATE:20260308T020000
END:DAYLIGHT
END:VTIMEZONE
BEGIN:VEVENT
UID:8ed8292a-f306-4d10-8ebb-67a31002180b
DTSTAMP:20260419T130020Z
DESCRIPTION:This training will provide a brief overview of Diversity\, Equi
 ty\, Inclusion\, and Belonging\, with a particular focus on cultural humil
 ity and bias. \nLearning Objectives:\nExamine and increase self awareness 
 to understand and address cultural/racial bias.\nExplore the differences b
 etween cultural competency and cultural humility. \nStrategies to reduce b
 ias and promote positive cross-cultural interactions.
DTSTART;TZID=America/Chicago:20240924T120000
DTEND;TZID=America/Chicago:20240924T130000
LOCATION:
SUMMARY:Cultural Humility\; Understanding and Overcoming Bias Training
END:VEVENT
END:VCALENDAR
