BEGIN:VCALENDAR
VERSION:2.0
PRODID:-//illinoiscasa.org//NONSGML kigkonsult.se iCalcreator 2.30.10//
CALSCALE:GREGORIAN
METHOD:PUBLISH
UID:930790ef-1fa8-42cf-9645-e8e2431a654f
X-WR-CALDESC:SEE FLYER ABOVE FOR INFO\n\nThis is an online training provide
 d by Children’s Research Triangle. \n\nTo sign up or for more information\
 , email Sophie@illinoiscasa.org by September 16th\n\nAfter September 17th\
 , you will receive a 2-hour self paced online class to complete before the
  4 hour web conference. \n\nYou will be credited for 6 hours of training\n
X-WR-RELCALID:45b011dcc3a9db60e7d57208f01bd2d2
X-WR-TIMEZONE:America/Chicago
BEGIN:VTIMEZONE
TZID:America/Chicago
BEGIN:STANDARD
TZNAME:CST
DTSTART:20231105T020000
TZOFFSETFROM:-0500
TZOFFSETTO:-0600
RDATE:20241103T020000
RDATE:20251102T020000
END:STANDARD
BEGIN:DAYLIGHT
TZNAME:CDT
DTSTART:20240310T020000
TZOFFSETFROM:-0600
TZOFFSETTO:-0500
RDATE:20250309T020000
RDATE:20260308T020000
END:DAYLIGHT
END:VTIMEZONE
BEGIN:VEVENT
UID:e769b74e-b900-4b06-8d81-804b6d30d152
DTSTAMP:20260421T144201Z
DESCRIPTION:SEE FLYER ABOVE FOR INFO\n\nThis is an online training provided
  by Children’s Research Triangle. \n\nTo sign up or for more information\,
  email Sophie@illinoiscasa.org by September 16th\n\nAfter September 17th\,
  you will receive a 2-hour self paced online class to complete before the 
 4 hour web conference. \n\nYou will be credited for 6 hours of training\n
DTSTART;TZID=America/Chicago:20240916T050000
DTEND;TZID=America/Chicago:20240916T050001
LOCATION:
SUMMARY:LAST DAY TO SIGN UP FOR OCTOBER YOUTH MENTAL HEALTH FIRST AID WEB C
 ONFERENCE
END:VEVENT
END:VCALENDAR
