BEGIN:VCALENDAR
VERSION:2.0
PRODID:-//illinoiscasa.org//NONSGML kigkonsult.se iCalcreator 2.30.10//
CALSCALE:GREGORIAN
METHOD:PUBLISH
UID:df6f147b-4d3c-428a-bc99-1656f26228e8
X-WR-CALDESC:Ignored\, abused\, and abandoned – these are some of the chron
 ic conditions experienced by children raised in environments where there i
 s substance misuse or illegal drug use\, manufacturing\, cultivation and d
 istribution.  Drug endangered children are part of a large and growing pop
 ulation of children whose lives have been seriously and negatively impacte
 d by dangerous drugs. The Core DEC Awareness training looks at overcoming 
 the challenges in aligning the agencies and systems responsible for preven
 ting\, intervening\, and treating these issues to change the trajectories 
 of the lives of drug endangered children and break multi-generational cycl
 es of abuse and neglect.
X-WR-RELCALID:85501c5fe3ddcc589a3a090e6708f19d
X-WR-TIMEZONE:America/Chicago
BEGIN:VTIMEZONE
TZID:America/Chicago
BEGIN:STANDARD
TZNAME:CST
DTSTART:20231105T020000
TZOFFSETFROM:-0500
TZOFFSETTO:-0600
RDATE:20241103T020000
END:STANDARD
BEGIN:DAYLIGHT
TZNAME:CDT
DTSTART:20230312T020000
TZOFFSETFROM:-0600
TZOFFSETTO:-0500
RDATE:20240310T020000
RDATE:20250309T020000
END:DAYLIGHT
END:VTIMEZONE
BEGIN:VEVENT
UID:2d879cd9-3ba1-437b-8a5c-499c9b69b105
DTSTAMP:20260424T205054Z
DESCRIPTION:Ignored\, abused\, and abandoned – these are some of the chroni
 c conditions experienced by children raised in environments where there is
  substance misuse or illegal drug use\, manufacturing\, cultivation and di
 stribution.  Drug endangered children are part of a large and growing popu
 lation of children whose lives have been seriously and negatively impacted
  by dangerous drugs. The Core DEC Awareness training looks at overcoming t
 he challenges in aligning the agencies and systems responsible for prevent
 ing\, intervening\, and treating these issues to change the trajectories o
 f the lives of drug endangered children and break multi-generational cycle
 s of abuse and neglect.
DTSTART;TZID=America/Chicago:20240216T120000
DTEND;TZID=America/Chicago:20240216T130000
LOCATION:
SUMMARY:Drug Endangered Children (DEC) Awareness – Identifying Drug Endange
 red Children:  A Collaborative Approach
END:VEVENT
END:VCALENDAR
