BEGIN:VCALENDAR
VERSION:2.0
PRODID:-//illinoiscasa.org//NONSGML kigkonsult.se iCalcreator 2.30.10//
CALSCALE:GREGORIAN
METHOD:PUBLISH
UID:f90f77f2-5ad6-47c7-aa19-ffeb4195994c
X-WR-CALDESC:Thinking of becoming a volunteer advocate? Have you heard abou
 t our mission and not sure what serving as a court appointed special advoc
 ate looks like? Join Illinois CASA for a thirty minute webinar to find out
  more about the role of volunteers who advocate on behalf of children who 
 have experienced abuse and neglect. Registration is required.
X-WR-RELCALID:65bd876485f43d8943162399b6f4d58a
X-WR-TIMEZONE:America/Chicago
BEGIN:VTIMEZONE
TZID:America/Chicago
BEGIN:STANDARD
TZNAME:CST
DTSTART:20231105T020000
TZOFFSETFROM:-0500
TZOFFSETTO:-0600
RDATE:20241103T020000
END:STANDARD
BEGIN:DAYLIGHT
TZNAME:CDT
DTSTART:20230312T020000
TZOFFSETFROM:-0600
TZOFFSETTO:-0500
RDATE:20240310T020000
RDATE:20250309T020000
END:DAYLIGHT
END:VTIMEZONE
BEGIN:VEVENT
UID:c57d9506-39a5-482f-ac52-ac2eb91e7278
DTSTAMP:20260425T025738Z
DESCRIPTION:Thinking of becoming a volunteer advocate? Have you heard about
  our mission and not sure what serving as a court appointed special advoca
 te looks like? Join Illinois CASA for a thirty minute webinar to find out 
 more about the role of volunteers who advocate on behalf of children who h
 ave experienced abuse and neglect. Registration is required.
DTSTART;TZID=America/Chicago:20231108T180000
DTEND;TZID=America/Chicago:20231108T183000
LOCATION:
SUMMARY:CASA 101-Becoming a Volunteer Advocate Informational Session
END:VEVENT
END:VCALENDAR
