BEGIN:VCALENDAR
VERSION:2.0
PRODID:-//illinoiscasa.org//NONSGML kigkonsult.se iCalcreator 2.30.10//
CALSCALE:GREGORIAN
METHOD:PUBLISH
UID:ddd21c04-8a24-4fa0-9b09-d05ce3c32ff9
X-WR-CALDESC:Alexis Campbell is a student at the University of Illinois at 
 Springfield. Currently majoring in Legal Studies\, Vice President of the T
 rial Team\, studying for the LSAT and employed full time employee at Allie
 d Universal.\n\nCampbell’s goal to receive her Law degree is to contribute
  to Restorative Justice and help reduce the percentage of youth in care th
 at end up incarcerated. She is passionate about being an advocate for yout
 h in care. This passion stems from being a previous youth in care for a to
 tal of eight years. She has experienced countless numbers of youth shelter
 s\, foster homes\, group-homes\, and other living arrangements during her 
 time in foster care. Campbell has used her lived experiences to speak and 
 take part in panel events including Illinois CASA 2023 Conference and advo
 cate at the state capital during Foster Care Awareness Month to improve th
 e quality of life and better support youth in care.
X-WR-RELCALID:c4d9cbb6dd697cdf894f8ffa069933b6
X-WR-TIMEZONE:America/Chicago
BEGIN:VTIMEZONE
TZID:America/Chicago
BEGIN:STANDARD
TZNAME:CST
DTSTART:20221106T020000
TZOFFSETFROM:-0500
TZOFFSETTO:-0600
RDATE:20231105T020000
RDATE:20241103T020000
END:STANDARD
BEGIN:DAYLIGHT
TZNAME:CDT
DTSTART:20230312T020000
TZOFFSETFROM:-0600
TZOFFSETTO:-0500
RDATE:20240310T020000
END:DAYLIGHT
END:VTIMEZONE
BEGIN:VEVENT
UID:30e12448-a1e0-46e9-8900-8484cce7d0f0
DTSTAMP:20260422T001052Z
DESCRIPTION:Alexis Campbell is a student at the University of Illinois at S
 pringfield. Currently majoring in Legal Studies\, Vice President of the Tr
 ial Team\, studying for the LSAT and employed full time employee at Allied
  Universal.\n\nCampbell’s goal to receive her Law degree is to contribute 
 to Restorative Justice and help reduce the percentage of youth in care tha
 t end up incarcerated. She is passionate about being an advocate for youth
  in care. This passion stems from being a previous youth in care for a tot
 al of eight years. She has experienced countless numbers of youth shelters
 \, foster homes\, group-homes\, and other living arrangements during her t
 ime in foster care. Campbell has used her lived experiences to speak and t
 ake part in panel events including Illinois CASA 2023 Conference and advoc
 ate at the state capital during Foster Care Awareness Month to improve the
  quality of life and better support youth in care.
DTSTART;TZID=America/Chicago:20230809T100000
DTEND;TZID=America/Chicago:20230809T110000
LOCATION:
SUMMARY:How to Best Support Older Youth in Care for a More Successful Trans
 ition Out of Care with Alexis Campbell
END:VEVENT
END:VCALENDAR
