BEGIN:VCALENDAR
VERSION:2.0
PRODID:-//illinoiscasa.org//NONSGML kigkonsult.se iCalcreator 2.30.10//
CALSCALE:GREGORIAN
METHOD:PUBLISH
UID:60f5f59f-5e22-4b23-b7e7-43432bda303a
X-WR-CALDESC:
X-WR-RELCALID:5bd13e2874d68f28ae215a3c04f090b5
X-WR-TIMEZONE:America/Chicago
BEGIN:VTIMEZONE
TZID:America/Chicago
BEGIN:STANDARD
TZNAME:CST
DTSTART:20211107T020000
TZOFFSETFROM:-0500
TZOFFSETTO:-0600
RDATE:20221106T020000
END:STANDARD
BEGIN:DAYLIGHT
TZNAME:CDT
DTSTART:20210314T020000
TZOFFSETFROM:-0600
TZOFFSETTO:-0500
RDATE:20220313T020000
RDATE:20230312T020000
END:DAYLIGHT
END:VTIMEZONE
BEGIN:VEVENT
UID:6c5685d2-ea28-433d-82d8-3fbc299af941
DTSTAMP:20260425T113520Z
DESCRIPTION:
DTSTART;TZID=America/Chicago:20220310T120000
DTEND;TZID=America/Chicago:20220310T130000
LOCATION:
SUMMARY:Illinois CASA Network Call
END:VEVENT
END:VCALENDAR
