BEGIN:VCALENDAR
VERSION:2.0
PRODID:-//illinoiscasa.org//NONSGML kigkonsult.se iCalcreator 2.30.10//
CALSCALE:GREGORIAN
METHOD:PUBLISH
UID:66bf315d-6df5-496c-92cf-e2717295123f
X-WR-CALDESC:Join us as Prevent Child Abuse Illinois presents on the main o
 bjectives in Cycles of Poverty:\n-Gain a deeper understanding of how pover
 ty and related conditions often reinforce each other\n-Awareness of your o
 wn attitudes and beliefs about poverty and the people who live in it\n-Und
 erstanding the underlying conditions of poverty and the impact on our comm
 unities\n-Discuss ways you can make a difference in your community
X-WR-RELCALID:0fd4d774609a220a170e70188191ae1c
X-WR-TIMEZONE:America/Chicago
BEGIN:VTIMEZONE
TZID:America/Chicago
BEGIN:STANDARD
TZNAME:CST
DTSTART:20211107T020000
TZOFFSETFROM:-0500
TZOFFSETTO:-0600
RDATE:20221106T020000
END:STANDARD
BEGIN:DAYLIGHT
TZNAME:CDT
DTSTART:20210314T020000
TZOFFSETFROM:-0600
TZOFFSETTO:-0500
RDATE:20220313T020000
RDATE:20230312T020000
END:DAYLIGHT
END:VTIMEZONE
BEGIN:VEVENT
UID:ccd82269-0e10-4fce-805a-2969f1fca70c
DTSTAMP:20260424T025315Z
DESCRIPTION:Join us as Prevent Child Abuse Illinois presents on the main ob
 jectives in Cycles of Poverty:\n-Gain a deeper understanding of how povert
 y and related conditions often reinforce each other\n-Awareness of your ow
 n attitudes and beliefs about poverty and the people who live in it\n-Unde
 rstanding the underlying conditions of poverty and the impact on our commu
 nities\n-Discuss ways you can make a difference in your community
DTSTART;TZID=America/Chicago:20211216T120000
DTEND;TZID=America/Chicago:20211216T133000
LOCATION:
SUMMARY:Cycles of Poverty
END:VEVENT
END:VCALENDAR
