BEGIN:VCALENDAR
VERSION:2.0
PRODID:-//illinoiscasa.org//NONSGML kigkonsult.se iCalcreator 2.30.10//
CALSCALE:GREGORIAN
METHOD:PUBLISH
UID:ecfaf10d-5947-429e-9c8d-5c8987c6a78f
X-WR-CALDESC:Trending Apps\n\nApp stores are filled with millions of apps f
 or adults and youth to download\, however most teens share a common intere
 st in Snapchat\, TikTok\, Instagram\, Facebook\, Messenger and YouTube. Th
 is webinar highlights the functionality of each and provides resources to 
 learn more. \n\nPresenter: Karilyn Orr from the Illinois Attorney General'
 s office.
X-WR-RELCALID:36b381265ad9964688e77f790d0fd218
X-WR-TIMEZONE:America/Chicago
BEGIN:VTIMEZONE
TZID:America/Chicago
BEGIN:STANDARD
TZNAME:CST
DTSTART:20201101T020000
TZOFFSETFROM:-0500
TZOFFSETTO:-0600
RDATE:20211107T020000
RDATE:20221106T020000
END:STANDARD
BEGIN:DAYLIGHT
TZNAME:CDT
DTSTART:20210314T020000
TZOFFSETFROM:-0600
TZOFFSETTO:-0500
RDATE:20220313T020000
END:DAYLIGHT
END:VTIMEZONE
BEGIN:VEVENT
UID:7888e9c7-9246-450d-b4f8-e2a193769dac
DTSTAMP:20260425T221138Z
DESCRIPTION:Trending Apps\n\nApp stores are filled with millions of apps fo
 r adults and youth to download\, however most teens share a common interes
 t in Snapchat\, TikTok\, Instagram\, Facebook\, Messenger and YouTube. Thi
 s webinar highlights the functionality of each and provides resources to l
 earn more. \n\nPresenter: Karilyn Orr from the Illinois Attorney General's
  office.
DTSTART;TZID=America/Chicago:20210817T110000
DTEND;TZID=America/Chicago:20210817T120000
LOCATION:
SUMMARY:WEBINAR Trending Apps
END:VEVENT
END:VCALENDAR
